Package: LinTInd Version: 1.12.0 Command: /home/biocbuild/R/R/bin/R CMD INSTALL LinTInd StartedAt: 2025-10-13 21:07:27 -0000 (Mon, 13 Oct 2025) EndedAt: 2025-10-13 21:07:52 -0000 (Mon, 13 Oct 2025) EllapsedTime: 25.1 seconds RetCode: 0 Status: OK