Package: LinTInd Version: 1.12.0 Command: /home/biocbuild/R/R/bin/R CMD build --keep-empty-dirs --no-resave-data LinTInd StartedAt: 2025-10-14 02:01:00 -0000 (Tue, 14 Oct 2025) EndedAt: 2025-10-14 02:02:09 -0000 (Tue, 14 Oct 2025) EllapsedTime: 69.0 seconds RetCode: 0 Status: OK PackageFile: LinTInd_1.12.0.tar.gz PackageFileSize: 1.548 MiB