Package: LedPred Version: 1.42.0 Command: /home/biocbuild/R/R/bin/R CMD INSTALL LedPred StartedAt: 2025-10-13 20:21:55 -0000 (Mon, 13 Oct 2025) EndedAt: 2025-10-13 20:22:27 -0000 (Mon, 13 Oct 2025) EllapsedTime: 32.4 seconds RetCode: 0 Status: OK