Package: LedPred Version: 1.42.0 Command: /Library/Frameworks/R.framework/Resources/bin/R CMD INSTALL LedPred StartedAt: 2025-04-21 15:05:43 -0400 (Mon, 21 Apr 2025) EndedAt: 2025-04-21 15:05:48 -0400 (Mon, 21 Apr 2025) EllapsedTime: 5.0 seconds RetCode: 0 Status: OK