Package: LRcell Version: 1.16.0 Command: /home/biocbuild/R/R/bin/R CMD build --keep-empty-dirs --no-resave-data LRcell StartedAt: 2025-10-14 02:02:37 -0000 (Tue, 14 Oct 2025) EndedAt: 2025-10-14 02:04:17 -0000 (Tue, 14 Oct 2025) EllapsedTime: 100.0 seconds RetCode: 0 Status: OK PackageFile: LRcell_1.16.0.tar.gz PackageFileSize: 1.031 MiB