Package: LRcell Version: 1.16.0 Command: /Library/Frameworks/R.framework/Resources/bin/R CMD build --keep-empty-dirs --no-resave-data LRcell StartedAt: 2025-10-14 03:13:35 -0400 (Tue, 14 Oct 2025) EndedAt: 2025-10-14 03:15:00 -0400 (Tue, 14 Oct 2025) EllapsedTime: 84.5 seconds RetCode: 0 Status: OK PackageFile: LRcell_1.16.0.tar.gz PackageFileSize: 1.036 MiB