Package: LRBaseDbi Version: 2.18.1 Command: /home/biocbuild/bbs-3.21-bioc/R/bin/R CMD INSTALL LRBaseDbi StartedAt: 2025-10-15 15:57:29 -0400 (Wed, 15 Oct 2025) EndedAt: 2025-10-15 15:57:41 -0400 (Wed, 15 Oct 2025) EllapsedTime: 12.3 seconds RetCode: 0 Status: OK