Package: LRBaseDbi Version: 2.18.1 Command: /home/biocbuild/R/R/bin/R CMD INSTALL LRBaseDbi StartedAt: 2025-10-13 21:12:56 -0000 (Mon, 13 Oct 2025) EndedAt: 2025-10-13 21:13:13 -0000 (Mon, 13 Oct 2025) EllapsedTime: 17.5 seconds RetCode: 0 Status: OK