Package: LRBaseDbi Version: 2.18.1 Command: /Library/Frameworks/R.framework/Resources/bin/R CMD build --keep-empty-dirs --no-resave-data LRBaseDbi StartedAt: 2025-10-14 03:13:14 -0400 (Tue, 14 Oct 2025) EndedAt: 2025-10-14 03:13:49 -0400 (Tue, 14 Oct 2025) EllapsedTime: 35.0 seconds RetCode: 0 Status: OK PackageFile: LRBaseDbi_2.18.1.tar.gz PackageFileSize: 145.8 KiB