Package: LOBSTAHS Version: 1.34.1 Command: /home/biocbuild/R/R/bin/R CMD INSTALL LOBSTAHS StartedAt: 2025-10-13 21:06:10 -0000 (Mon, 13 Oct 2025) EndedAt: 2025-10-13 21:07:22 -0000 (Mon, 13 Oct 2025) EllapsedTime: 71.8 seconds RetCode: 0 Status: OK