Package: LOBSTAHS Version: 1.34.1 Command: /home/biocbuild/R/R/bin/R CMD build --keep-empty-dirs --no-resave-data LOBSTAHS StartedAt: 2025-10-14 02:02:08 -0000 (Tue, 14 Oct 2025) EndedAt: 2025-10-14 02:03:43 -0000 (Tue, 14 Oct 2025) EllapsedTime: 95.0 seconds RetCode: 0 Status: OK PackageFile: LOBSTAHS_1.34.1.tar.gz PackageFileSize: 2.903 MiB