Package: LEA Version: 3.20.0 Command: /home/biocbuild/R/R/bin/R CMD INSTALL LEA StartedAt: 2025-10-13 20:13:28 -0000 (Mon, 13 Oct 2025) EndedAt: 2025-10-13 20:14:18 -0000 (Mon, 13 Oct 2025) EllapsedTime: 50.4 seconds RetCode: 0 Status: OK