Package: LEA Version: 3.20.0 Command: /home/biocbuild/R/R/bin/R CMD build --keep-empty-dirs --no-resave-data LEA StartedAt: 2025-10-14 01:58:57 -0000 (Tue, 14 Oct 2025) EndedAt: 2025-10-14 02:00:52 -0000 (Tue, 14 Oct 2025) EllapsedTime: 115.0 seconds RetCode: 0 Status: OK PackageFile: LEA_3.20.0.tar.gz PackageFileSize: 734.1 KiB