Package: LACE Version: 2.12.0 Command: /home/biocbuild/R/R/bin/R CMD INSTALL LACE StartedAt: 2025-10-13 20:40:45 -0000 (Mon, 13 Oct 2025) EndedAt: 2025-10-13 20:41:33 -0000 (Mon, 13 Oct 2025) EllapsedTime: 47.8 seconds RetCode: 0 Status: OK