Package: LACE Version: 2.12.0 Command: /home/biocbuild/R/R/bin/R CMD build --keep-empty-dirs --no-resave-data LACE StartedAt: 2025-10-14 01:58:39 -0000 (Tue, 14 Oct 2025) EndedAt: 2025-10-14 01:59:52 -0000 (Tue, 14 Oct 2025) EllapsedTime: 73.0 seconds RetCode: 0 Status: OK PackageFile: LACE_2.12.0.tar.gz PackageFileSize: 4.259 MiB