Package: KnowSeq Version: 1.22.0 Command: /home/biocbuild/bbs-3.21-bioc/R/bin/R CMD build --keep-empty-dirs --no-resave-data KnowSeq StartedAt: 2025-10-15 18:12:03 -0400 (Wed, 15 Oct 2025) EndedAt: 2025-10-15 18:14:29 -0400 (Wed, 15 Oct 2025) EllapsedTime: 146.2 seconds RetCode: 0 Status: OK PackageFile: KnowSeq_1.22.0.tar.gz PackageFileSize: 8.201 MiB