Package: KnowSeq Version: 1.22.0 Command: /Library/Frameworks/R.framework/Resources/bin/R CMD build --keep-empty-dirs --no-resave-data KnowSeq StartedAt: 2025-10-14 03:03:45 -0400 (Tue, 14 Oct 2025) EndedAt: 2025-10-14 03:07:34 -0400 (Tue, 14 Oct 2025) EllapsedTime: 229.5 seconds RetCode: 0 Status: OK PackageFile: KnowSeq_1.22.0.tar.gz PackageFileSize: 8.266 MiB