Package: KnowSeq Version: 1.22.0 Command: rm -rf KnowSeq.buildbin-libdir && mkdir KnowSeq.buildbin-libdir && /Users/biocbuild/BBS/utils/build-universal.sh KnowSeq_1.22.0.tar.gz /Library/Frameworks/R.framework/Resources/bin/R KnowSeq.buildbin-libdir StartedAt: 2025-10-15 19:03:34 -0400 (Wed, 15 Oct 2025) EndedAt: 2025-10-15 19:04:15 -0400 (Wed, 15 Oct 2025) EllapsedTime: 40.7 seconds RetCode: 0 Status: OK PackageFile: KnowSeq_1.22.0.tgz PackageFileSize: 6.597 MiB