Package: KinSwingR Version: 1.26.0 Command: /home/biocbuild/R/R/bin/R CMD build --keep-empty-dirs --no-resave-data KinSwingR StartedAt: 2025-10-14 01:58:01 -0000 (Tue, 14 Oct 2025) EndedAt: 2025-10-14 01:58:36 -0000 (Tue, 14 Oct 2025) EllapsedTime: 35.0 seconds RetCode: 0 Status: OK PackageFile: KinSwingR_1.26.0.tar.gz PackageFileSize: 643.5 KiB