Package: KinSwingR Version: 1.26.0 Command: /Library/Frameworks/R.framework/Resources/bin/R CMD INSTALL KinSwingR StartedAt: 2025-10-13 15:17:20 -0400 (Mon, 13 Oct 2025) EndedAt: 2025-10-13 15:17:27 -0400 (Mon, 13 Oct 2025) EllapsedTime: 7.3 seconds RetCode: 0 Status: OK