Package: KinSwingR Version: 1.26.0 Command: /Library/Frameworks/R.framework/Resources/bin/R CMD build --keep-empty-dirs --no-resave-data KinSwingR StartedAt: 2025-10-14 03:03:06 -0400 (Tue, 14 Oct 2025) EndedAt: 2025-10-14 03:03:45 -0400 (Tue, 14 Oct 2025) EllapsedTime: 38.4 seconds RetCode: 0 Status: OK PackageFile: KinSwingR_1.26.0.tar.gz PackageFileSize: 649.9 KiB