Package: KEGGgraph Version: 1.68.0 Command: /home/biocbuild/R/R/bin/R CMD INSTALL KEGGgraph StartedAt: 2025-10-13 20:26:46 -0000 (Mon, 13 Oct 2025) EndedAt: 2025-10-13 20:26:54 -0000 (Mon, 13 Oct 2025) EllapsedTime: 8.2 seconds RetCode: 0 Status: OK