Package: IsoformSwitchAnalyzeR Version: 2.8.0 Command: chmod a+r IsoformSwitchAnalyzeR -R && E:\biocbuild\bbs-3.21-bioc\R\bin\R.exe CMD build --keep-empty-dirs --no-resave-data IsoformSwitchAnalyzeR StartedAt: 2025-08-14 19:58:11 -0400 (Thu, 14 Aug 2025) EndedAt: 2025-08-14 20:02:56 -0400 (Thu, 14 Aug 2025) EllapsedTime: 285.4 seconds RetCode: 0 Status: OK PackageFile: IsoformSwitchAnalyzeR_2.8.0.tar.gz PackageFileSize: 4.487 MiB