Package: IsoformSwitchAnalyzeR Version: 2.8.0 Command: /home/biocbuild/bbs-3.21-bioc/R/bin/R CMD build --keep-empty-dirs --no-resave-data IsoformSwitchAnalyzeR StartedAt: 2025-10-15 18:09:49 -0400 (Wed, 15 Oct 2025) EndedAt: 2025-10-15 18:13:09 -0400 (Wed, 15 Oct 2025) EllapsedTime: 199.2 seconds RetCode: 0 Status: OK PackageFile: IsoformSwitchAnalyzeR_2.8.0.tar.gz PackageFileSize: 6.459 MiB