Package: IsoformSwitchAnalyzeR Version: 2.8.0 Command: /Library/Frameworks/R.framework/Resources/bin/R CMD INSTALL IsoformSwitchAnalyzeR StartedAt: 2025-10-13 16:30:18 -0400 (Mon, 13 Oct 2025) EndedAt: 2025-10-13 16:32:36 -0400 (Mon, 13 Oct 2025) EllapsedTime: 137.7 seconds RetCode: 0 Status: OK