Package: IsoformSwitchAnalyzeR Version: 2.8.0 Command: rm -rf IsoformSwitchAnalyzeR.buildbin-libdir && mkdir IsoformSwitchAnalyzeR.buildbin-libdir && /Users/biocbuild/BBS/utils/build-universal.sh IsoformSwitchAnalyzeR_2.8.0.tar.gz /Library/Frameworks/R.framework/Resources/bin/R IsoformSwitchAnalyzeR.buildbin-libdir StartedAt: 2025-10-14 13:49:56 -0400 (Tue, 14 Oct 2025) EndedAt: 2025-10-14 13:53:44 -0400 (Tue, 14 Oct 2025) EllapsedTime: 227.8 seconds RetCode: 0 Status: OK PackageFile: IsoformSwitchAnalyzeR_2.8.0.tgz PackageFileSize: 7.392 MiB