Package: IsoformSwitchAnalyzeR Version: 2.8.0 Command: /home/biocbuild/R/R/bin/R CMD INSTALL IsoformSwitchAnalyzeR StartedAt: 2025-10-13 21:07:22 -0000 (Mon, 13 Oct 2025) EndedAt: 2025-10-13 21:08:54 -0000 (Mon, 13 Oct 2025) EllapsedTime: 92.1 seconds RetCode: 0 Status: OK