Package: IsoformSwitchAnalyzeR Version: 2.8.0 Command: /home/biocbuild/R/R/bin/R CMD build --keep-empty-dirs --no-resave-data IsoformSwitchAnalyzeR StartedAt: 2025-10-14 01:55:13 -0000 (Tue, 14 Oct 2025) EndedAt: 2025-10-14 02:00:40 -0000 (Tue, 14 Oct 2025) EllapsedTime: 327.1 seconds RetCode: 0 Status: OK PackageFile: IsoformSwitchAnalyzeR_2.8.0.tar.gz PackageFileSize: 5.846 MiB