Package: IsoformSwitchAnalyzeR Version: 2.8.0 Command: /Library/Frameworks/R.framework/Resources/bin/R CMD INSTALL IsoformSwitchAnalyzeR StartedAt: 2025-10-13 17:59:08 -0400 (Mon, 13 Oct 2025) EndedAt: 2025-10-13 18:00:22 -0400 (Mon, 13 Oct 2025) EllapsedTime: 74.4 seconds RetCode: 0 Status: OK