Package: IsoCorrectoRGUI Version: 1.24.0 Command: /home/biocbuild/bbs-3.21-bioc/R/bin/R CMD INSTALL IsoCorrectoRGUI StartedAt: 2025-10-15 15:08:13 -0400 (Wed, 15 Oct 2025) EndedAt: 2025-10-15 15:08:18 -0400 (Wed, 15 Oct 2025) EllapsedTime: 4.5 seconds RetCode: 0 Status: OK