Package: IsoCorrectoRGUI Version: 1.24.0 Command: /home/biocbuild/bbs-3.21-bioc/R/bin/R CMD check --install=check:IsoCorrectoRGUI.install-out.txt --library=/home/biocbuild/bbs-3.21-bioc/R/site-library --timings IsoCorrectoRGUI_1.24.0.tar.gz StartedAt: 2025-10-16 00:25:06 -0400 (Thu, 16 Oct 2025) EndedAt: 2025-10-16 00:25:41 -0400 (Thu, 16 Oct 2025) EllapsedTime: 35.1 seconds RetCode: 0 Status: OK CheckDir: IsoCorrectoRGUI.Rcheck Warnings: 0