Package: IsoCorrectoRGUI Version: 1.24.0 Command: /home/biocbuild/bbs-3.21-bioc/R/bin/R CMD build --keep-empty-dirs --no-resave-data IsoCorrectoRGUI StartedAt: 2025-10-15 18:09:48 -0400 (Wed, 15 Oct 2025) EndedAt: 2025-10-15 18:09:56 -0400 (Wed, 15 Oct 2025) EllapsedTime: 8.0 seconds RetCode: 0 Status: OK PackageFile: IsoCorrectoRGUI_1.24.0.tar.gz PackageFileSize: 439 KiB