Package: IsoCorrectoRGUI Version: 1.24.0 Command: /home/biocbuild/R/R/bin/R CMD INSTALL IsoCorrectoRGUI StartedAt: 2025-10-13 20:19:51 -0000 (Mon, 13 Oct 2025) EndedAt: 2025-10-13 20:19:57 -0000 (Mon, 13 Oct 2025) EllapsedTime: 5.6 seconds RetCode: 0 Status: OK