Package: IsoCorrectoRGUI Version: 1.24.0 Command: /home/biocbuild/R/R/bin/R CMD build --keep-empty-dirs --no-resave-data IsoCorrectoRGUI StartedAt: 2025-10-14 01:55:11 -0000 (Tue, 14 Oct 2025) EndedAt: 2025-10-14 01:55:22 -0000 (Tue, 14 Oct 2025) EllapsedTime: 11.0 seconds RetCode: 0 Status: OK PackageFile: IsoCorrectoRGUI_1.24.0.tar.gz PackageFileSize: 464.3 KiB