Package: IntramiRExploreR Version: 1.30.0 Command: /home/biocbuild/bbs-3.21-bioc/R/bin/R CMD INSTALL IntramiRExploreR StartedAt: 2025-10-15 15:10:32 -0400 (Wed, 15 Oct 2025) EndedAt: 2025-10-15 15:10:47 -0400 (Wed, 15 Oct 2025) EllapsedTime: 15.7 seconds RetCode: 0 Status: OK