Package: IntramiRExploreR Version: 1.30.0 Command: /Library/Frameworks/R.framework/Resources/bin/R CMD build --keep-empty-dirs --no-resave-data IntramiRExploreR StartedAt: 2025-10-13 19:56:31 -0400 (Mon, 13 Oct 2025) EndedAt: 2025-10-13 19:57:08 -0400 (Mon, 13 Oct 2025) EllapsedTime: 37.1 seconds RetCode: 0 Status: OK PackageFile: IntramiRExploreR_1.30.0.tar.gz PackageFileSize: 8.901 MiB