Package: IntramiRExploreR Version: 1.30.0 Command: /home/biocbuild/R/R/bin/R CMD INSTALL IntramiRExploreR StartedAt: 2025-10-13 20:22:34 -0000 (Mon, 13 Oct 2025) EndedAt: 2025-10-13 20:22:50 -0000 (Mon, 13 Oct 2025) EllapsedTime: 15.3 seconds RetCode: 0 Status: OK