Package: IntramiRExploreR Version: 1.30.0 Command: /home/biocbuild/R/R/bin/R CMD build --keep-empty-dirs --no-resave-data IntramiRExploreR StartedAt: 2025-10-14 01:51:51 -0000 (Tue, 14 Oct 2025) EndedAt: 2025-10-14 01:52:18 -0000 (Tue, 14 Oct 2025) EllapsedTime: 27.0 seconds RetCode: 0 Status: OK PackageFile: IntramiRExploreR_1.30.0.tar.gz PackageFileSize: 8.902 MiB