Package: IntramiRExploreR Version: 1.30.0 Command: /Library/Frameworks/R.framework/Resources/bin/R CMD INSTALL IntramiRExploreR StartedAt: 2025-10-13 15:30:58 -0400 (Mon, 13 Oct 2025) EndedAt: 2025-10-13 15:31:13 -0400 (Mon, 13 Oct 2025) EllapsedTime: 15.3 seconds RetCode: 0 Status: OK