Package: InteractiveComplexHeatmap Version: 1.16.0 Command: /home/biocbuild/bbs-3.21-bioc/R/bin/R CMD INSTALL InteractiveComplexHeatmap StartedAt: 2025-10-15 15:13:57 -0400 (Wed, 15 Oct 2025) EndedAt: 2025-10-15 15:14:10 -0400 (Wed, 15 Oct 2025) EllapsedTime: 13.2 seconds RetCode: 0 Status: OK