Package: InteractiveComplexHeatmap Version: 1.16.0 Command: /home/biocbuild/bbs-3.21-bioc/R/bin/R CMD check --install=check:InteractiveComplexHeatmap.install-out.txt --library=/home/biocbuild/bbs-3.21-bioc/R/site-library --timings InteractiveComplexHeatmap_1.16.0.tar.gz StartedAt: 2025-10-16 00:17:23 -0400 (Thu, 16 Oct 2025) EndedAt: 2025-10-16 00:19:41 -0400 (Thu, 16 Oct 2025) EllapsedTime: 138.2 seconds RetCode: 0 Status: OK CheckDir: InteractiveComplexHeatmap.Rcheck Warnings: 0