Package: InteractiveComplexHeatmap Version: 1.16.0 Command: /Library/Frameworks/R.framework/Resources/bin/R CMD INSTALL InteractiveComplexHeatmap StartedAt: 2025-10-13 15:26:45 -0400 (Mon, 13 Oct 2025) EndedAt: 2025-10-13 15:27:20 -0400 (Mon, 13 Oct 2025) EllapsedTime: 35.5 seconds RetCode: 0 Status: OK