Package: InteractiveComplexHeatmap Version: 1.16.0 Command: rm -rf InteractiveComplexHeatmap.buildbin-libdir && mkdir InteractiveComplexHeatmap.buildbin-libdir && /Users/biocbuild/BBS/utils/build-universal.sh InteractiveComplexHeatmap_1.16.0.tar.gz /Library/Frameworks/R.framework/Resources/bin/R InteractiveComplexHeatmap.buildbin-libdir StartedAt: 2025-10-14 13:47:08 -0400 (Tue, 14 Oct 2025) EndedAt: 2025-10-14 13:48:03 -0400 (Tue, 14 Oct 2025) EllapsedTime: 54.6 seconds RetCode: 0 Status: OK PackageFile: InteractiveComplexHeatmap_1.16.0.tgz PackageFileSize: 1.153 MiB