Package: InteractiveComplexHeatmap Version: 1.16.0 Command: /home/biocbuild/R/R/bin/R CMD INSTALL InteractiveComplexHeatmap StartedAt: 2025-10-13 20:27:05 -0000 (Mon, 13 Oct 2025) EndedAt: 2025-10-13 20:27:24 -0000 (Mon, 13 Oct 2025) EllapsedTime: 18.5 seconds RetCode: 0 Status: OK