Package: InteractiveComplexHeatmap Version: 1.16.0 Command: /home/biocbuild/R/R/bin/R CMD build --keep-empty-dirs --no-resave-data InteractiveComplexHeatmap StartedAt: 2025-10-14 01:50:33 -0000 (Tue, 14 Oct 2025) EndedAt: 2025-10-14 01:51:26 -0000 (Tue, 14 Oct 2025) EllapsedTime: 53.0 seconds RetCode: 0 Status: OK PackageFile: InteractiveComplexHeatmap_1.16.0.tar.gz PackageFileSize: 977 KiB