Package: InteractiveComplexHeatmap Version: 1.16.0 Command: /Library/Frameworks/R.framework/Resources/bin/R CMD INSTALL InteractiveComplexHeatmap StartedAt: 2025-10-13 15:40:39 -0400 (Mon, 13 Oct 2025) EndedAt: 2025-10-13 15:40:54 -0400 (Mon, 13 Oct 2025) EllapsedTime: 14.6 seconds RetCode: 0 Status: OK