Package: InteractiveComplexHeatmap Version: 1.16.0 Command: /Library/Frameworks/R.framework/Resources/bin/R CMD check --install=check:InteractiveComplexHeatmap.install-out.txt --library=/Library/Frameworks/R.framework/Resources/library --no-vignettes --timings InteractiveComplexHeatmap_1.16.0.tar.gz StartedAt: 2025-10-15 01:09:37 -0400 (Wed, 15 Oct 2025) EndedAt: 2025-10-15 01:11:30 -0400 (Wed, 15 Oct 2025) EllapsedTime: 112.6 seconds RetCode: 0 Status: OK CheckDir: InteractiveComplexHeatmap.Rcheck Warnings: 0