Package: InteractiveComplexHeatmap Version: 1.16.0 Command: /Library/Frameworks/R.framework/Resources/bin/R CMD build --keep-empty-dirs --no-resave-data InteractiveComplexHeatmap StartedAt: 2025-10-14 02:47:31 -0400 (Tue, 14 Oct 2025) EndedAt: 2025-10-14 02:48:25 -0400 (Tue, 14 Oct 2025) EllapsedTime: 53.5 seconds RetCode: 0 Status: OK PackageFile: InteractiveComplexHeatmap_1.16.0.tar.gz PackageFileSize: 968.8 KiB