Package: InteractionSet Version: 1.36.1 Command: rm -rf InteractionSet.buildbin-libdir && mkdir InteractionSet.buildbin-libdir && /Users/biocbuild/BBS/utils/build-universal.sh InteractionSet_1.36.1.tar.gz /Library/Frameworks/R.framework/Resources/bin/R InteractionSet.buildbin-libdir StartedAt: 2025-10-14 13:47:01 -0400 (Tue, 14 Oct 2025) EndedAt: 2025-10-14 13:49:37 -0400 (Tue, 14 Oct 2025) EllapsedTime: 156.7 seconds RetCode: 0 Status: OK PackageFile: InteractionSet_1.36.1.tgz PackageFileSize: 1.553 MiB