Package: InteractionSet Version: 1.36.1 Command: /home/biocbuild/R/R/bin/R CMD INSTALL InteractionSet StartedAt: 2025-10-13 20:35:31 -0000 (Mon, 13 Oct 2025) EndedAt: 2025-10-13 20:36:36 -0000 (Mon, 13 Oct 2025) EllapsedTime: 65.2 seconds RetCode: 0 Status: OK